BEGIN:VCALENDAR
VERSION:2.0
PRODID:-//NextFab - ECPv6.15.11//NONSGML v1.0//EN
CALSCALE:GREGORIAN
METHOD:PUBLISH
X-ORIGINAL-URL:https://nextfab-sandbox.digitaleye.com
X-WR-CALDESC:Events for NextFab
REFRESH-INTERVAL;VALUE=DURATION:PT1H
X-Robots-Tag:noindex
X-PUBLISHED-TTL:PT1H
BEGIN:VTIMEZONE
TZID:America/New_York
BEGIN:DAYLIGHT
TZOFFSETFROM:-0500
TZOFFSETTO:-0400
TZNAME:EDT
DTSTART:20240310T070000
END:DAYLIGHT
BEGIN:STANDARD
TZOFFSETFROM:-0400
TZOFFSETTO:-0500
TZNAME:EST
DTSTART:20241103T060000
END:STANDARD
BEGIN:DAYLIGHT
TZOFFSETFROM:-0500
TZOFFSETTO:-0400
TZNAME:EDT
DTSTART:20250309T070000
END:DAYLIGHT
BEGIN:STANDARD
TZOFFSETFROM:-0400
TZOFFSETTO:-0500
TZNAME:EST
DTSTART:20251102T060000
END:STANDARD
BEGIN:DAYLIGHT
TZOFFSETFROM:-0500
TZOFFSETTO:-0400
TZNAME:EDT
DTSTART:20260308T070000
END:DAYLIGHT
BEGIN:STANDARD
TZOFFSETFROM:-0400
TZOFFSETTO:-0500
TZNAME:EST
DTSTART:20261101T060000
END:STANDARD
END:VTIMEZONE
BEGIN:VEVENT
DTSTART;TZID=America/New_York:20250911T180000
DTEND;TZID=America/New_York:20250911T200000
DTSTAMP:20260424T094116
CREATED:20250626T184855Z
LAST-MODIFIED:20250626T184855Z
UID:29817-1757613600-1757620800@nextfab-sandbox.digitaleye.com
SUMMARY:September Open House
DESCRIPTION:Join the NextFab community at our monthly Open House! Tour our spacious facility\, and meet our talented members\, while discovering how you can turn your ideas into reality. Explore our upgraded shops\, including textiles\, jewelry\, woodworking\, and more. Learn about membership\, classes\, and how NextFab can help you create. Each month\, we will be highlighting specific members and partners of our community. Be sure to check back each month for our highlights! Light drinks and refreshments will be provided. \nThis month\, join us for: \n\nSeptember Repair Fair: Give your broken items a second life at the Fixers Guild’s Repair Fair! Get hands-on help fixing jewelry\, furniture\, appliances\, and more. (Check their guidelines before you go!)\n\nThese events are hosted as part of Second Thursdays\, a neighborhood-wide event\, originally created by the Crane Arts Building\, as a chance to explore open studios\, artist showcases\, and unique businesses. Be sure to check out all of the businesses at the 1800 N. American St. building: The Resource Exchange\, Sor Ynez\, Keystone Bicycle Co\, Beaty American Salvage (City Ore)\, Center for Creative Works\, Virida\, and Farm N’ Sea Pets.
URL:https://nextfab-sandbox.digitaleye.com/event/september-open-house/
LOCATION:North Philly\, 1800 N. American St.\, Philadelphia\, PA\, 19122\, United States
ATTACH;FMTTYPE=image/jpeg:https://nextfab-sandbox.digitaleye.com/wp-content/uploads/2024/10/NextFab-North-Philly.jpeg
END:VEVENT
BEGIN:VEVENT
DTSTART;TZID=America/New_York:20250911T180000
DTEND;TZID=America/New_York:20250911T200000
DTSTAMP:20260424T094116
CREATED:20250711T122222Z
LAST-MODIFIED:20250711T122222Z
UID:29918-1757613600-1757620800@nextfab-sandbox.digitaleye.com
SUMMARY:Marketing Office Hours with Sam of FORMATION.Media
DESCRIPTION:Ready to Elevate Your Creative Business Online?\nMeet Samantha Sineni\, owner of FORMATION. Media\, a digital marketing expert with a decade of experience specializing in social media\, integrated marketing\, and business intelligence analytics. Samantha’s passion for the arts drives her agency\, helping professionals in creative industries thrive online. \nFORMATION. Media is a full-service digital marketing agency\, focused on growing brands online for professionals in creative industries. If you need help getting started or feel like it’s time to scale up\, they can help. Their core services are branding\, websites\, social media content and strategy\, paid social\, and SEM. They’re designed to guide you through every phase of the business cycle and keep you moving forward. Learn more about how they’ve helped business owners achieve their goals at FORMATION-Media.com. \nGet a free\, personalized consultation with Samantha! She’ll be available in our NextFab conference room on Thursday\, September 11th\, from 6-8 PM. This is open to both members and the public\, and drop-ins are welcome! Don’t miss this chance to get expert advice for your brand. Register for a spot here.
URL:https://nextfab-sandbox.digitaleye.com/event/september-2025-marketing-office-hours-with-sam-of-formation-media/
LOCATION:North Philly\, 1800 N. American St.\, Philadelphia\, PA\, 19122\, United States
ATTACH;FMTTYPE=image/png:https://nextfab-sandbox.digitaleye.com/wp-content/uploads/2025/07/Marketing-Office-Hours-with-Sam-of-FORMATION.Media_.png
END:VEVENT
END:VCALENDAR