BEGIN:VCALENDAR
VERSION:2.0
PRODID:-//NextFab - ECPv6.15.11//NONSGML v1.0//EN
CALSCALE:GREGORIAN
METHOD:PUBLISH
X-WR-CALNAME:NextFab
X-ORIGINAL-URL:https://nextfab-sandbox.digitaleye.com
X-WR-CALDESC:Events for NextFab
REFRESH-INTERVAL;VALUE=DURATION:PT1H
X-Robots-Tag:noindex
X-PUBLISHED-TTL:PT1H
BEGIN:VTIMEZONE
TZID:America/New_York
BEGIN:DAYLIGHT
TZOFFSETFROM:-0500
TZOFFSETTO:-0400
TZNAME:EDT
DTSTART:20240310T070000
END:DAYLIGHT
BEGIN:STANDARD
TZOFFSETFROM:-0400
TZOFFSETTO:-0500
TZNAME:EST
DTSTART:20241103T060000
END:STANDARD
BEGIN:DAYLIGHT
TZOFFSETFROM:-0500
TZOFFSETTO:-0400
TZNAME:EDT
DTSTART:20250309T070000
END:DAYLIGHT
BEGIN:STANDARD
TZOFFSETFROM:-0400
TZOFFSETTO:-0500
TZNAME:EST
DTSTART:20251102T060000
END:STANDARD
BEGIN:DAYLIGHT
TZOFFSETFROM:-0500
TZOFFSETTO:-0400
TZNAME:EDT
DTSTART:20260308T070000
END:DAYLIGHT
BEGIN:STANDARD
TZOFFSETFROM:-0400
TZOFFSETTO:-0500
TZNAME:EST
DTSTART:20261101T060000
END:STANDARD
END:VTIMEZONE
BEGIN:VEVENT
DTSTART;TZID=America/New_York:20250612T180000
DTEND;TZID=America/New_York:20250612T200000
DTSTAMP:20260424T105226
CREATED:20250605T205141Z
LAST-MODIFIED:20250605T205141Z
UID:29725-1749751200-1749758400@nextfab-sandbox.digitaleye.com
SUMMARY:June Open House
DESCRIPTION:Join the NextFab community at our monthly Open House! Tour our spacious facility\, and meet our talented members\, while discovering how you can turn your ideas into reality. Explore our upgraded shops\, including textiles\, jewelry\, woodworking\, and more. Learn about membership\, classes\, and how NextFab can help you create. Each month we will be highlighting specific members and partners of our community\, be sure to check back each month for our highlights! Light drinks and refreshments will be provided. \nThis month\, join us for: \n\nJune Repair Fair: Give your broken items a second life at the Fixers Guild’s Repair Fair! Get hands-on help fixing jewelry\, furniture\, appliances\, and more. (Check their guidelines before you go!).\n“Surviving in Silence Out Loud” – A Powerful Art Exhibition by Artist Monique Casey Disu: Join us for “Surviving in Silence Out Loud\,” a deeply personal and transformative multimedia art exhibition by Philadelphia-based artist M. Casey. This powerful show\, told through color\, texture\, and truth\, explores the aftermath of sexual assault and the journey from silence to healing and self-expression.\n\nThese events are hosted as part of Second Thursdays\, a neighborhood-wide event\, originally created by the Crane Arts Building\, as a chance to explore open studios\, artist showcases\, and unique businesses. Be sure to check out all of the businesses at the 1800 N. American St. building: The Resource Exchange\, Sor Ynez\, Keystone Bicycle Co\, Beaty American Salvage (City Ore)\, Center for Creative Works\, Virida\, and Farm N’ Sea Pets.
URL:https://nextfab-sandbox.digitaleye.com/event/june-open-house/
LOCATION:North Philly\, 1800 N. American St.\, Philadelphia\, PA\, 19122\, United States
ATTACH;FMTTYPE=image/jpeg:https://nextfab-sandbox.digitaleye.com/wp-content/uploads/2024/10/NextFab-North-Philly.jpeg
END:VEVENT
BEGIN:VEVENT
DTSTART;TZID=America/New_York:20250622T160000
DTEND;TZID=America/New_York:20250622T193000
DTSTAMP:20260424T105226
CREATED:20250611T202024Z
LAST-MODIFIED:20250618T202901Z
UID:29740-1750608000-1750620600@nextfab-sandbox.digitaleye.com
SUMMARY:Queer Maker Mixer & Pride Month Workshops
DESCRIPTION:Join us for a special series of workshops and a free mixer this Pride Month at NextFab! Whether you’re eager to learn new making skills or connect with fellow creatives\, our programming offers a vibrant opportunity to celebrate identity and build community. \n20% of all ticket sales will be donated to the William Way Community Center to support their vital work with the LGBTQIA+ communities in greater Philadelphia. \nWhat’s Happening: \n\nPride Month Leatherworking Workshop with Kelly\n\nDate: Sunday\, June 22nd\, 4:00 PM – 6:00 PM\nPrice: $149 (All materials included)\nLearn to create a custom fashion harness while meeting other queer makers.\nRegister Now\n\n\nPride Month Jewelry Workshop with Newell\n\nDate: Sunday\, June 22nd\, 4:00 PM – 6:00 PM\nPrice: $99 (All materials included)\nCraft a custom jewelry project and explore possibilities with fellow queer makers.\nRegister Now\n\n\nQueer Maker Mixer (Free!)\n\nDate: Sunday\, June 22nd\, 6:00 PM – 7:30 PM\nPrice: Free! (No registration needed!)\nConnect with LGBTQ+ makers\, explore our facilities\, and enjoy light refreshments.\n\n\n\nPride Month at NextFab is about more than just making; it’s about fostering belonging and celebrating creativity. We can’t wait to see you there!
URL:https://nextfab-sandbox.digitaleye.com/event/queer-maker-mixer/
LOCATION:North Philly\, 1800 N. American St.\, Philadelphia\, PA\, 19122\, United States
ATTACH;FMTTYPE=image/png:https://nextfab-sandbox.digitaleye.com/wp-content/uploads/2025/06/Queer-Maker-Mixer.png
END:VEVENT
END:VCALENDAR