BEGIN:VCALENDAR
VERSION:2.0
PRODID:-//NextFab - ECPv6.15.11//NONSGML v1.0//EN
CALSCALE:GREGORIAN
METHOD:PUBLISH
X-WR-CALNAME:NextFab
X-ORIGINAL-URL:https://nextfab-sandbox.digitaleye.com
X-WR-CALDESC:Events for NextFab
REFRESH-INTERVAL;VALUE=DURATION:PT1H
X-Robots-Tag:noindex
X-PUBLISHED-TTL:PT1H
BEGIN:VTIMEZONE
TZID:America/New_York
BEGIN:DAYLIGHT
TZOFFSETFROM:-0500
TZOFFSETTO:-0400
TZNAME:EDT
DTSTART:20240310T070000
END:DAYLIGHT
BEGIN:STANDARD
TZOFFSETFROM:-0400
TZOFFSETTO:-0500
TZNAME:EST
DTSTART:20241103T060000
END:STANDARD
BEGIN:DAYLIGHT
TZOFFSETFROM:-0500
TZOFFSETTO:-0400
TZNAME:EDT
DTSTART:20250309T070000
END:DAYLIGHT
BEGIN:STANDARD
TZOFFSETFROM:-0400
TZOFFSETTO:-0500
TZNAME:EST
DTSTART:20251102T060000
END:STANDARD
BEGIN:DAYLIGHT
TZOFFSETFROM:-0500
TZOFFSETTO:-0400
TZNAME:EDT
DTSTART:20260308T070000
END:DAYLIGHT
BEGIN:STANDARD
TZOFFSETFROM:-0400
TZOFFSETTO:-0500
TZNAME:EST
DTSTART:20261101T060000
END:STANDARD
END:VTIMEZONE
BEGIN:VEVENT
DTSTART;TZID=America/New_York:20250501T180000
DTEND;TZID=America/New_York:20250501T190000
DTSTAMP:20260424T122832
CREATED:20250428T150058Z
LAST-MODIFIED:20250428T150058Z
UID:29612-1746122400-1746126000@nextfab-sandbox.digitaleye.com
SUMMARY:Philadelphia Small Business Catalyst Fund Info Session
DESCRIPTION:Ready to grow your Philadelphia small business? Join us for an info session on the new $5 Million Philadelphia Small Business Catalyst Fund! \nThe Philadelphia Small Business Catalyst Fund is designed to: \n\nConnect businesses to comprehensive support beyond Catalyst funding\, including business education\, mentorship\, capital\, and strategic guidance.\nFoster collaboration across Philadelphia’s business ecosystem\, ensuring every entrepreneur has the opportunity to start\, grow\, and succeed.\n\nPresented by Leslie Acosta (Manager\, Community Outreach and Engagement\, Dept of Commerce)\, she will provide a comprehensive overview of the fund\, including who is eligible\, the requirements\, and how to navigate the application process. Discover how to access capital and support to take your growth-ready small business to the next level. \nWhen: Thursday\, May 1st\, 6:00 PM – 7:00 PM\nWhere: NextFab\, 1800 N. American St.\, Philadelphia \nAbout the Philadelphia Small Business Catalyst Fund: \nEligible businesses for the Philadelphia Small Business Catalyst Fund need to: \n\nDemonstrate strong growth potential with a clear expansion plan.\nContribute to local economic impact\, strengthening neighborhoods\, and creating jobs.\nShow resilience and innovation despite challenges in accessing traditional funding.\nGenerate less than $2 million in revenue (2024).\n\nFill out the interest form for pre-qualifications\, which can be found here.
URL:https://nextfab-sandbox.digitaleye.com/event/philadelphia-small-business-catalyst-fund-info-session/
LOCATION:North Philly\, 1800 N. American St.\, Philadelphia\, PA\, 19122\, United States
ATTACH;FMTTYPE=image/jpeg:https://nextfab-sandbox.digitaleye.com/wp-content/uploads/2025/04/Philadelphia-Small-Business-Catalyst-Fund-Info-Session-scaled.jpg
END:VEVENT
BEGIN:VEVENT
DTSTART;TZID=America/New_York:20250508T180000
DTEND;TZID=America/New_York:20250508T200000
DTSTAMP:20260424T122832
CREATED:20250404T162843Z
LAST-MODIFIED:20250404T162843Z
UID:29532-1746727200-1746734400@nextfab-sandbox.digitaleye.com
SUMMARY:May Open House
DESCRIPTION:Join the NextFab community at our monthly Open House! Tour our spacious facility\, and meet our talented members\, while discovering how you can turn your ideas into reality. Explore our upgraded shops\, including textiles\, jewelry\, woodworking\, and more. Learn about membership\, classes\, and how NextFab can help you create. Each month we will be highlighting specific members and partners of our community\, be sure to check back each month for our highlights! Light drinks and refreshments will be provided. \nThis month\, join us for: \n\nMay Repair Fair: Give your broken items a second life at the Fixers Guild’s Repair Fair! Get hands-on help fixing jewelry\, furniture\, appliances\, and more. (Check their guidelines before you go!).\nMuseum for Art in Wood x NextFab Winter Residency Show: Join us for Henry Merker’s 2025 solo exhibition at NextFab. This residency\, a collaboration focused on sustainability\, highlights Henry’s exploration of cork woodcraft. Last chance to view his work!\n\nThese events are hosted as part of Second Thursdays\, a neighborhood-wide event\, originally created by the Crane Arts Building\, as a chance to explore open studios\, artist showcases\, and unique businesses. Be sure to check out all of the businesses at the 1800 N. American St. building: The Resource Exchange\, Sor Ynez\, Keystone Bicycle Co\, Beaty American Salvage (City Ore)\, Center for Creative Works\, Virida\, and Farm N’ Sea Pets.
URL:https://nextfab-sandbox.digitaleye.com/event/may-open-house/
LOCATION:North Philly\, 1800 N. American St.\, Philadelphia\, PA\, 19122\, United States
ATTACH;FMTTYPE=image/jpeg:https://nextfab-sandbox.digitaleye.com/wp-content/uploads/2024/10/NextFab-North-Philly.jpeg
END:VEVENT
BEGIN:VEVENT
DTSTART;TZID=America/New_York:20250508T180000
DTEND;TZID=America/New_York:20250508T200000
DTSTAMP:20260424T122832
CREATED:20250428T150503Z
LAST-MODIFIED:20250428T150503Z
UID:29615-1746727200-1746734400@nextfab-sandbox.digitaleye.com
SUMMARY:Patent Advice from Scott Keeley
DESCRIPTION:Scott Keeley is a registered patent agent with 12 years of experience in intellectual property. He has engineered products from guitars to wind turbines\, with “green” energy powering much of his innovative output. His early career of 18 years centered on industrial design in the United States and Europe. He taught industrial design at the Kansas City Art Institute and has a Master’s in Industrial Design. \nScott will be available in our NextFab conference room on Thursday\, May 8th\, from 6-8 pm for free consultations to both members and open to the public (drop-ins welcome!).
URL:https://nextfab-sandbox.digitaleye.com/event/patent-advice-from-scott-keeley-8/
LOCATION:North Philly\, 1800 N. American St.\, Philadelphia\, PA\, 19122\, United States
ATTACH;FMTTYPE=image/jpeg:https://nextfab-sandbox.digitaleye.com/wp-content/uploads/2017/02/Daimler_Reitwagen_color_drawing_1885_DE_patent_36423.jpg
END:VEVENT
END:VCALENDAR