BEGIN:VCALENDAR
VERSION:2.0
PRODID:-//NextFab - ECPv6.15.11//NONSGML v1.0//EN
CALSCALE:GREGORIAN
METHOD:PUBLISH
X-WR-CALNAME:NextFab
X-ORIGINAL-URL:https://nextfab-sandbox.digitaleye.com
X-WR-CALDESC:Events for NextFab
REFRESH-INTERVAL;VALUE=DURATION:PT1H
X-Robots-Tag:noindex
X-PUBLISHED-TTL:PT1H
BEGIN:VTIMEZONE
TZID:America/New_York
BEGIN:DAYLIGHT
TZOFFSETFROM:-0500
TZOFFSETTO:-0400
TZNAME:EDT
DTSTART:20240310T070000
END:DAYLIGHT
BEGIN:STANDARD
TZOFFSETFROM:-0400
TZOFFSETTO:-0500
TZNAME:EST
DTSTART:20241103T060000
END:STANDARD
BEGIN:DAYLIGHT
TZOFFSETFROM:-0500
TZOFFSETTO:-0400
TZNAME:EDT
DTSTART:20250309T070000
END:DAYLIGHT
BEGIN:STANDARD
TZOFFSETFROM:-0400
TZOFFSETTO:-0500
TZNAME:EST
DTSTART:20251102T060000
END:STANDARD
BEGIN:DAYLIGHT
TZOFFSETFROM:-0500
TZOFFSETTO:-0400
TZNAME:EDT
DTSTART:20260308T070000
END:DAYLIGHT
BEGIN:STANDARD
TZOFFSETFROM:-0400
TZOFFSETTO:-0500
TZNAME:EST
DTSTART:20261101T060000
END:STANDARD
END:VTIMEZONE
BEGIN:VEVENT
DTSTART;TZID=America/New_York:20250410T180000
DTEND;TZID=America/New_York:20250410T200000
DTSTAMP:20260424T140405
CREATED:20250404T151506Z
LAST-MODIFIED:20250404T151506Z
UID:29529-1744308000-1744315200@nextfab-sandbox.digitaleye.com
SUMMARY:April Open House
DESCRIPTION:Join the NextFab community at our monthly Open House! Tour our spacious facility\, and meet our talented members\, while discovering how you can turn your ideas into reality. Explore our upgraded shops\, including textiles\, jewelry\, woodworking\, and more. Learn about membership\, classes\, and how NextFab can help you create. Each month we will be highlighting specific members and partners of our community\, be sure to check back each month for our highlights! Light drinks and refreshments will be provided. \nThis month join us for: \n\nApril Repair Fair: Give your broken items a second life at the Fixers Guild’s Repair Fair! Get hands-on help fixing jewelry\, furniture\, appliances\, and more. (Check their guidelines before you go!).\nMuseum for Art in Wood x NextFab Winter Residency Show: Join us for Henry Merker’s 2025 solo exhibition at NextFab. This residency\, a collaboration focused on sustainability\, highlights Henry’s exploration of cork woodcraft. See the culmination of his work! Exhibition runs March 13 – May 22\, 2025.\n\nThese events are hosted as part of Second Thursdays\, a neighborhood-wide event\, originally created by the Crane Arts Building\, as a chance to explore open studios\, artist showcases\, and unique businesses. Be sure to check out all of the businesses at the 1800 N. American St. building: The Resource Exchange\, Sor Ynez\, Keystone Bicycle Co\, Beaty American Salvage (City Ore)\, Center for Creative Works\, Virida\, and Farm N’ Sea Pets.
URL:https://nextfab-sandbox.digitaleye.com/event/april-open-house/
LOCATION:North Philly\, 1800 N. American St.\, Philadelphia\, PA\, 19122\, United States
ATTACH;FMTTYPE=image/jpeg:https://nextfab-sandbox.digitaleye.com/wp-content/uploads/2025/04/Museum-for-Art-in-Wood-x-NextFab-Winter-Residency-Show.jpg
END:VEVENT
BEGIN:VEVENT
DTSTART;TZID=America/New_York:20250430T170000
DTEND;TZID=America/New_York:20250430T200000
DTSTAMP:20260424T140405
CREATED:20250428T144157Z
LAST-MODIFIED:20250428T144157Z
UID:29609-1746032400-1746043200@nextfab-sandbox.digitaleye.com
SUMMARY:Women & Queers in Trades Career Day
DESCRIPTION:Join the Women & Queers in Trades Career Day on Tuesday\, April 30th\, from 5 PM to 8 PM at NextFab (1800 N. American St.\, Philadelphia). \nThis event offers a chance to: \n\nHear from professionals working in various trades\, including construction\, manufacturing\, and automotive.\nAsk questions about different career paths\, necessary schooling\, and job opportunities.\nNetwork with other professionals and those new to the trades\, building valuable support systems.\n\nWhether you’re just starting to consider a career in the trades or are a seasoned professional looking to connect with peers\, this event provides an empowering space to learn\, share information\, and build community. \nRSVP here: https://bit.ly/4ipOM2X \nThis event is part of a grassroots effort to empower marginalized individuals within the trades and help them navigate their career journeys.
URL:https://nextfab-sandbox.digitaleye.com/event/women-queers-in-trades-career-day/
LOCATION:North Philly\, 1800 N. American St.\, Philadelphia\, PA\, 19122\, United States
ATTACH;FMTTYPE=image/jpeg:https://nextfab-sandbox.digitaleye.com/wp-content/uploads/2025/04/Women-Queers-in-Trades-Career-Day-scaled.jpg
END:VEVENT
END:VCALENDAR