BEGIN:VCALENDAR
VERSION:2.0
PRODID:-//NextFab - ECPv6.15.11//NONSGML v1.0//EN
CALSCALE:GREGORIAN
METHOD:PUBLISH
X-WR-CALNAME:NextFab
X-ORIGINAL-URL:https://nextfab-sandbox.digitaleye.com
X-WR-CALDESC:Events for NextFab
REFRESH-INTERVAL;VALUE=DURATION:PT1H
X-Robots-Tag:noindex
X-PUBLISHED-TTL:PT1H
BEGIN:VTIMEZONE
TZID:America/New_York
BEGIN:DAYLIGHT
TZOFFSETFROM:-0500
TZOFFSETTO:-0400
TZNAME:EDT
DTSTART:20240310T070000
END:DAYLIGHT
BEGIN:STANDARD
TZOFFSETFROM:-0400
TZOFFSETTO:-0500
TZNAME:EST
DTSTART:20241103T060000
END:STANDARD
BEGIN:DAYLIGHT
TZOFFSETFROM:-0500
TZOFFSETTO:-0400
TZNAME:EDT
DTSTART:20250309T070000
END:DAYLIGHT
BEGIN:STANDARD
TZOFFSETFROM:-0400
TZOFFSETTO:-0500
TZNAME:EST
DTSTART:20251102T060000
END:STANDARD
BEGIN:DAYLIGHT
TZOFFSETFROM:-0500
TZOFFSETTO:-0400
TZNAME:EDT
DTSTART:20260308T070000
END:DAYLIGHT
BEGIN:STANDARD
TZOFFSETFROM:-0400
TZOFFSETTO:-0500
TZNAME:EST
DTSTART:20261101T060000
END:STANDARD
END:VTIMEZONE
BEGIN:VEVENT
DTSTART;TZID=America/New_York:20250303T083000
DTEND;TZID=America/New_York:20250303T143000
DTSTAMP:20260424T154032
CREATED:20250206T142551Z
LAST-MODIFIED:20250206T142551Z
UID:29307-1740990600-1741012200@nextfab-sandbox.digitaleye.com
SUMMARY:Maker Education Summit
DESCRIPTION:Calling all teachers\, educators\, and those looking to bring STEM education to their communities. NextFab\, alongside STEM Ed Consulting\, are hosting a day of learning and professional development to engage educators serving diverse populations. \nThis one-day event will be hosted at NextFab\, at 1800 N American St\, in Philadelphia\, where participants will work hands-on\, learning how to start or level up their makerspace\, connect with other educators and makers\, and take home a customized project. Starting with a tour of NextFab\, our technical experts will lead hands-on workshops to help participants make either a custom leather accessory\, cheeseboard\, or piece of textured jewelry to take home. After learning hands-on\, the day will break for lunch before moving into interactive workshops and demonstrations\, learning about makerspace safety and laser-cutting. Closing out the day\, participants will learn about the opportunities and how they can be a part of the Maker Education Movement\, an initiative dedicated to empowering K-12 schools in the greater Philadelphia region to embrace and advance maker education. \nIntegrating the maker mentality in the classroom allows students to own their learning while developing career readiness. No matter where you’re starting\, start making at NextFab and see how this approach can benefit your community. \nRegister Here.
URL:https://nextfab-sandbox.digitaleye.com/event/maker-education-summit/
LOCATION:North Philly\, 1800 N. American St.\, Philadelphia\, PA\, 19122\, United States
ATTACH;FMTTYPE=image/jpeg:https://nextfab-sandbox.digitaleye.com/wp-content/uploads/2025/02/NextFab-Maker-Education-Summit-scaled.jpg
END:VEVENT
BEGIN:VEVENT
DTSTART;TZID=America/New_York:20250313T180000
DTEND;TZID=America/New_York:20250313T200000
DTSTAMP:20260424T154032
CREATED:20250217T182832Z
LAST-MODIFIED:20250217T182832Z
UID:29349-1741888800-1741896000@nextfab-sandbox.digitaleye.com
SUMMARY:March Open House
DESCRIPTION:Join the NextFab community at our monthly Open House! Tour our spacious facility\, and meet our talented members\, while discovering how you can turn your ideas into reality. Explore our upgraded shops\, including textiles\, jewelry\, woodworking\, and more. Learn about membership\, classes\, and how NextFab can help you create. Each month we will be highlighting specific members and partners of our community\, be sure to check back each month for our highlights! Light drinks and refreshments will be provided. \nThis month join us for: \n\nMarch Repair Fair: Give your broken items a second life at the Fixers Guild’s Repair Fair! Get hands-on help fixing jewelry\, furniture\, appliances\, and more. (Check their guidelines before you go!).\nMuseum for Art in Wood x NextFab Winter Residency Opening: Join us for Henry Merker’s 2025 solo exhibition at NextFab. This residency\, a collaboration focused on sustainability\, highlights Henry’s exploration of cork woodcraft. See the culmination of his work!\n\nArtist Talk: March 14\, 2025. Exhibition runs March 13 – May 22\, 2025.\n\n\n\nThese events are hosted as part of Second Thursdays\, a neighborhood-wide event\, originally created by the Crane Arts Building\, as a chance to explore open studios\, artist showcases\, and unique businesses. Be sure to check out all of the businesses at the 1800 N. American St. building: The Resource Exchange\, Sor Ynez\, Keystone Bicycle Co\, Beaty American Salvage (City Ore)\, Center for Creative Works\, Virida\, and Farm N’ Sea Pets.
URL:https://nextfab-sandbox.digitaleye.com/event/march-open-house/
LOCATION:North Philly\, 1800 N. American St.\, Philadelphia\, PA\, 19122\, United States
ATTACH;FMTTYPE=image/jpeg:https://nextfab-sandbox.digitaleye.com/wp-content/uploads/2024/10/NextFab-North-Philly.jpeg
END:VEVENT
END:VCALENDAR