BEGIN:VCALENDAR
VERSION:2.0
PRODID:-//NextFab - ECPv6.15.11//NONSGML v1.0//EN
CALSCALE:GREGORIAN
METHOD:PUBLISH
X-ORIGINAL-URL:https://nextfab-sandbox.digitaleye.com
X-WR-CALDESC:Events for NextFab
REFRESH-INTERVAL;VALUE=DURATION:PT1H
X-Robots-Tag:noindex
X-PUBLISHED-TTL:PT1H
BEGIN:VTIMEZONE
TZID:America/New_York
BEGIN:DAYLIGHT
TZOFFSETFROM:-0500
TZOFFSETTO:-0400
TZNAME:EDT
DTSTART:20240310T070000
END:DAYLIGHT
BEGIN:STANDARD
TZOFFSETFROM:-0400
TZOFFSETTO:-0500
TZNAME:EST
DTSTART:20241103T060000
END:STANDARD
BEGIN:DAYLIGHT
TZOFFSETFROM:-0500
TZOFFSETTO:-0400
TZNAME:EDT
DTSTART:20250309T070000
END:DAYLIGHT
BEGIN:STANDARD
TZOFFSETFROM:-0400
TZOFFSETTO:-0500
TZNAME:EST
DTSTART:20251102T060000
END:STANDARD
BEGIN:DAYLIGHT
TZOFFSETFROM:-0500
TZOFFSETTO:-0400
TZNAME:EDT
DTSTART:20260308T070000
END:DAYLIGHT
BEGIN:STANDARD
TZOFFSETFROM:-0400
TZOFFSETTO:-0500
TZNAME:EST
DTSTART:20261101T060000
END:STANDARD
END:VTIMEZONE
BEGIN:VEVENT
DTSTART;TZID=America/New_York:20250213T180000
DTEND;TZID=America/New_York:20250213T200000
DTSTAMP:20260424T172440
CREATED:20250127T170717Z
LAST-MODIFIED:20250127T170717Z
UID:29276-1739469600-1739476800@nextfab-sandbox.digitaleye.com
SUMMARY:February Open House
DESCRIPTION:Join the NextFab community at our monthly Open House! Tour our spacious facility\, and meet our talented members\, while discovering how you can turn your ideas into reality. Explore our upgraded shops\, including textiles\, jewelry\, woodworking\, and more. Learn about membership\, classes\, and how NextFab can help you create. Each month we will be highlighting specific members and partners of our community\, be sure to check back each month for our highlights! Light drinks and refreshments will be provided. \nThis month join us for: \n\nFebruary Repair Fair: Give your broken items a second life at the Fixers Guild’s Repair Fair! Get hands-on help fixing jewelry\, furniture\, appliances\, and more. (Check their guidelines before you go!).\n\nThese events are hosted as part of Second Thursdays\, a neighborhood-wide event\, originally created by the Crane Arts Building\, as a chance to explore open studios\, artist showcases\, and unique businesses. Be sure to check out all of the businesses at the 1800 N. American St. building: The Resource Exchange\, Sor Ynez\, Keystone Bicycle Co\, Beaty American Salvage (City Ore)\, Center for Creative Works\, Virida\, and Farm N’ Sea Pets.
URL:https://nextfab-sandbox.digitaleye.com/event/february-open-house/
LOCATION:North Philly\, 1800 N. American St.\, Philadelphia\, PA\, 19122\, United States
ATTACH;FMTTYPE=image/jpeg:https://nextfab-sandbox.digitaleye.com/wp-content/uploads/2024/10/NextFab-North-Philly.jpeg
END:VEVENT
BEGIN:VEVENT
DTSTART;TZID=America/New_York:20250222T100000
DTEND;TZID=America/New_York:20250222T160000
DTSTAMP:20260424T172440
CREATED:20250204T153602Z
LAST-MODIFIED:20250204T153602Z
UID:29291-1740218400-1740240000@nextfab-sandbox.digitaleye.com
SUMMARY:NextFab Garage Sale (members-only)
DESCRIPTION:NextFab South Philly is opening its doors for a two-day sale of equipment\, tools\, furniture\, and materials as we move to our new location. This is your chance to acquire high-quality items at discounted prices. Whether you’re looking to upgrade your workshop\, start a new project\, or simply find some unique pieces\, this sale has something for everyone. \nOn Saturday\, February 22nd\, NextFab members get exclusive access to our pre-sale for a chance to browse the selection before anyone else and snag the best deals. On Sunday\, February 23rd\, we’ll open the sale up to the public. Come explore our wide array of items\, from industrial equipment and power tools to furniture\, raw materials\, and much more. \nLocation: 2025 Washington Ave. in South Philadelphia. \nNote that all sales will be made on-site and on a first-come\, first-served basis. Our location has a load-in garage and carts for load-in. Everything must go! For questions\, please reach out to us at info@nextfab.com. \nSee the full list here.
URL:https://nextfab-sandbox.digitaleye.com/event/nextfab-garage-sale-members-only/
LOCATION:South Philly\, 2025 Washington Ave\, Philadelphia\, PA\, 19146\, United States
ATTACH;FMTTYPE=image/png:https://nextfab-sandbox.digitaleye.com/wp-content/uploads/2025/02/NextFab-Garage-Sale-min.png
END:VEVENT
BEGIN:VEVENT
DTSTART;TZID=America/New_York:20250223T100000
DTEND;TZID=America/New_York:20250223T160000
DTSTAMP:20260424T172440
CREATED:20250204T160139Z
LAST-MODIFIED:20250204T160139Z
UID:29295-1740304800-1740326400@nextfab-sandbox.digitaleye.com
SUMMARY:NextFab Garage Sale (public sale)
DESCRIPTION:NextFab South Philly is opening its doors for a two-day sale of equipment\, tools\, furniture\, and materials as we move to our new location. This is your chance to acquire high-quality items at discounted prices. Whether you’re looking to upgrade your workshop\, start a new project\, or simply find some unique pieces\, this sale has something for everyone. \nOn Saturday\, February 22nd\, NextFab members get exclusive access to our pre-sale for a chance to browse the selection before anyone else and snag the best deals. On Sunday\, February 23rd\, we’ll open the sale up to the public. Come explore our wide array of items\, from industrial equipment and power tools to furniture\, raw materials\, and much more. \nLocation: 2025 Washington Ave. in South Philadelphia. \nNote that all sales will be made on-site and on a first-come\, first-served basis. Our location has a load-in garage and carts for load-in. Everything must go! For questions\, please reach out to us at info@nextfab.com. \nSee the full list here.
URL:https://nextfab-sandbox.digitaleye.com/event/nextfab-garage-sale-public-sale/
LOCATION:South Philly\, 2025 Washington Ave\, Philadelphia\, PA\, 19146\, United States
ATTACH;FMTTYPE=image/png:https://nextfab-sandbox.digitaleye.com/wp-content/uploads/2025/02/NextFab-Garage-Sale-min.png
END:VEVENT
END:VCALENDAR