BEGIN:VCALENDAR
VERSION:2.0
PRODID:-//NextFab - ECPv6.15.11//NONSGML v1.0//EN
CALSCALE:GREGORIAN
METHOD:PUBLISH
X-WR-CALNAME:NextFab
X-ORIGINAL-URL:https://nextfab-sandbox.digitaleye.com
X-WR-CALDESC:Events for NextFab
REFRESH-INTERVAL;VALUE=DURATION:PT1H
X-Robots-Tag:noindex
X-PUBLISHED-TTL:PT1H
BEGIN:VTIMEZONE
TZID:America/New_York
BEGIN:DAYLIGHT
TZOFFSETFROM:-0500
TZOFFSETTO:-0400
TZNAME:EDT
DTSTART:20230312T070000
END:DAYLIGHT
BEGIN:STANDARD
TZOFFSETFROM:-0400
TZOFFSETTO:-0500
TZNAME:EST
DTSTART:20231105T060000
END:STANDARD
BEGIN:DAYLIGHT
TZOFFSETFROM:-0500
TZOFFSETTO:-0400
TZNAME:EDT
DTSTART:20240310T070000
END:DAYLIGHT
BEGIN:STANDARD
TZOFFSETFROM:-0400
TZOFFSETTO:-0500
TZNAME:EST
DTSTART:20241103T060000
END:STANDARD
BEGIN:DAYLIGHT
TZOFFSETFROM:-0500
TZOFFSETTO:-0400
TZNAME:EDT
DTSTART:20250309T070000
END:DAYLIGHT
BEGIN:STANDARD
TZOFFSETFROM:-0400
TZOFFSETTO:-0500
TZNAME:EST
DTSTART:20251102T060000
END:STANDARD
END:VTIMEZONE
BEGIN:VEVENT
DTSTART;TZID=America/New_York:20241211T170000
DTEND;TZID=America/New_York:20241211T200000
DTSTAMP:20260424T202932
CREATED:20241206T170942Z
LAST-MODIFIED:20241206T204033Z
UID:29099-1733936400-1733947200@nextfab-sandbox.digitaleye.com
SUMMARY:Hardware Meetup at NextFab
DESCRIPTION:Join us for the 8th Philadelphia Hardware Meetup! Come join us to hear from our guest speakers as well as share what’s on your desk. We always have time for an open mic. \nHardware Meetups happen across 30+ cities monthly and help bring together different professionals to connect and meet each other. \nWe have a great set of guest speakers \n\nGreg Sampson is the Founder and CEO of Courtside Video Entertainment\, the creator of innovative in-arena entertainment platforms for high-value sports fans. He is a senior-level Engineering Executive with over 25 years of experience and excels in leading large teams in industrial\, consumer\, and medical product development. He has a proven track record of delivering innovative technical solutions for innovative startups and Fortune 500 tech companies that consistently exceed customer expectations and achieve market leadership. A former championship competitive swimmer\, Mr. Sampson combined his sports and technology passion to found FanCheer Interactive Inc.\, a mobile platform for real-time fan engagement.\nCory Lord is an Electronics Engineer with a specialty in wireless power delivery and communication. He is a co-founder of VivoKey\, where he designs implantable technologies that allow users to securely merge their digital and physical identities. Cory also provides contract hardware development services and technical training to a variety of startups and individuals through his company Protopoint.\nNick Lynch is the Director of Systems Integration at Exyn Technologies\, supporting R&D and Product Development to enable advanced autonomy for aerial and ground robotics along with high-resolution 3D data capture. Nick has been with Exyn since the first early prototypes and has helped lead the design and development of the ExynAero\, ExynPak\, and the most recent Exyn Nexys product lines. Experience includes executing rapid hardware product development and launch cycles while managing technical\, cost\, and schedule risks.\n\nAgenda \n\n5:00-5:30 pm: Arrive\, mingle\, grab some food and a beverage\n5:30-5:45 pm: Opening remarks\n5:45-7:00 pm: Guest Speakers + Q&A with the audience\n7:00-7:30 pm: Open Mic. Anyone in attendance can give a demo or short presentation on their hardware product\, startup\, or project.\n7:30-8:00 pm: Mix\, mingle\, and close out the night.
URL:https://nextfab-sandbox.digitaleye.com/event/hardware-meetup-at-nextfab/
LOCATION:North Philly\, 1800 N. American St.\, Philadelphia\, PA\, 19122\, United States
ATTACH;FMTTYPE=image/jpeg:https://nextfab-sandbox.digitaleye.com/wp-content/uploads/2024/12/hardware-meetup.jpeg
END:VEVENT
BEGIN:VEVENT
DTSTART;TZID=America/New_York:20241212T180000
DTEND;TZID=America/New_York:20241212T200000
DTSTAMP:20260424T202932
CREATED:20241206T161432Z
LAST-MODIFIED:20241206T161432Z
UID:29097-1734026400-1734033600@nextfab-sandbox.digitaleye.com
SUMMARY:December Second Thursday at NextFab
DESCRIPTION:We’ll be featuring the Fixers Guild Repair Fair for our last event of the year! Why replace it when you can repair it? In these popup Repair Fairs\, the volunteers of the Philly Fixers Guild will help you fix your stuff\, free of charge\, and they’re ready for the challenge. Got tangled jewelry\, IKEA furniture that needs assembling\, or a vacuum cleaner that’s on the fritz? Sit down with one of their volunteers and they’ll help you hands-on with fixing it. While they do have some limits\, they encourage a read of their ground rules before bringing in your items. \nThis independent collective of talented volunteers from differing technical backgrounds is committed to the idea of “repair rather than replace.” These volunteer Fixers do not simply fix items for people but rather work with them to teach the troubleshooting and repair process. Ultimately\, our community will benefit from less waste and improved economic conservation. \nSign up for a  December slot here. \nTours of NextFab will be available\, and light drinks and refreshments will be served. \nWhat are Second Thursdays? \nFor 17 years\, the Crane Arts Building has hosted monthly art exhibitions\, performances\, and openings on the Second Thursday of every month. Similar to First Fridays in Old City\, but not wanting to compete\, Second Thursdays were created to highlight the creative community of the North Philadelphia neighborhood – and well it stuck! \nAmerican St. is becoming a booming street for artists\, makers\, and creatives of all types\, and we invite you to come out to be a part of this. Between the Crane Arts Building and the Clay Studio\, the NextFab building at 1800 North American St. houses seven businesses that will also open their doors on the second Thursday of every month. At 1800 N. American St.’s creative work ranges from maker classes\, sourcing salvaged materials\, empowering artists\, building bicycles\, supporting artisan businesses\, a gorgeous floral market\, and a restaurant mixing up amazing cocktails. All are welcome to this open house-style event! \nWhile at the Wheelhouse building be sure to check out our neighbors:\n\nThe Resource Exchange\nSor Ynez\nKeystone Bicycle Co\nBeaty American Salvage (City Ore)\nCenter for Creative Works\nVirida\nFarm N’ Sea Pets
URL:https://nextfab-sandbox.digitaleye.com/event/december-second-thursday-at-nextfab/
LOCATION:North Philly\, 1800 N. American St.\, Philadelphia\, PA\, 19122\, United States
ATTACH;FMTTYPE=image/jpeg:https://nextfab-sandbox.digitaleye.com/wp-content/uploads/2024/01/Philly-Fixers-Guild.jpg
END:VEVENT
END:VCALENDAR