BEGIN:VCALENDAR
VERSION:2.0
PRODID:-//NextFab - ECPv6.15.11//NONSGML v1.0//EN
CALSCALE:GREGORIAN
METHOD:PUBLISH
X-ORIGINAL-URL:https://nextfab-sandbox.digitaleye.com
X-WR-CALDESC:Events for NextFab
REFRESH-INTERVAL;VALUE=DURATION:PT1H
X-Robots-Tag:noindex
X-PUBLISHED-TTL:PT1H
BEGIN:VTIMEZONE
TZID:America/New_York
BEGIN:DAYLIGHT
TZOFFSETFROM:-0500
TZOFFSETTO:-0400
TZNAME:EDT
DTSTART:20230312T070000
END:DAYLIGHT
BEGIN:STANDARD
TZOFFSETFROM:-0400
TZOFFSETTO:-0500
TZNAME:EST
DTSTART:20231105T060000
END:STANDARD
BEGIN:DAYLIGHT
TZOFFSETFROM:-0500
TZOFFSETTO:-0400
TZNAME:EDT
DTSTART:20240310T070000
END:DAYLIGHT
BEGIN:STANDARD
TZOFFSETFROM:-0400
TZOFFSETTO:-0500
TZNAME:EST
DTSTART:20241103T060000
END:STANDARD
BEGIN:DAYLIGHT
TZOFFSETFROM:-0500
TZOFFSETTO:-0400
TZNAME:EDT
DTSTART:20250309T070000
END:DAYLIGHT
BEGIN:STANDARD
TZOFFSETFROM:-0400
TZOFFSETTO:-0500
TZNAME:EST
DTSTART:20251102T060000
END:STANDARD
END:VTIMEZONE
BEGIN:VEVENT
DTSTART;TZID=America/New_York:20241112T180000
DTEND;TZID=America/New_York:20241112T200000
DTSTAMP:20260424T221758
CREATED:20241018T192040Z
LAST-MODIFIED:20241025T115559Z
UID:28930-1731434400-1731441600@nextfab-sandbox.digitaleye.com
SUMMARY:November Woodshop Skill Build
DESCRIPTION:Join NextFab member and expert Matt Blackburn in North Philly as he shares insights from Blackburn Furniture where everything is made using traditional woodworking techniques including woodturning and carving. He specializes in built-to-order furniture from museum-quality reproductions to custom designs. \nMatt will be sharing some of his techniques through exciting demos to demystify the process – save your seat here! \n Preregistration is not required\, but encouraged! 
URL:https://nextfab-sandbox.digitaleye.com/event/november-north-philly-open-house-woodshop-skill-build/
LOCATION:North Philly\, 1800 N. American St.\, Philadelphia\, PA\, 19122\, United States
ATTACH;FMTTYPE=image/jpeg:https://nextfab-sandbox.digitaleye.com/wp-content/uploads/2024/10/Wood-Skill-Build-with-Matt-Blackburn.jpeg
END:VEVENT
BEGIN:VEVENT
DTSTART;TZID=America/New_York:20241114T180000
DTEND;TZID=America/New_York:20241114T200000
DTSTAMP:20260424T221758
CREATED:20241101T155823Z
LAST-MODIFIED:20241101T155913Z
UID:28977-1731607200-1731614400@nextfab-sandbox.digitaleye.com
SUMMARY:November Second Thursday at NextFab
DESCRIPTION:Join us for a special Women’s Jewelry Association Open House in the Jewelry Studio at NextFab!\n\nWhat is the WJA? The Women’s Jewelry Association offers membership to a diverse group of working professionals in the jewelry industry including business owners\, jewelry designers\, retail associates\, merchant buyers\, watchmakers\, and more! Their mission is to create and maintain a local forum to help peers develop personally and professionally by hosting networking and educational events throughout the year.\n\nIf you are looking to make business connections\, network about the jewelry industry\, or get more details about what being a WJA member can bring to you\, meet us for snacks and a good time at NextFab North on Thursday\, November 14th from 6:00 to 8:00 pm!\n\nMember benefits that come with WJA Membership:\n\nAccess to thousands of dollars in member grants and scholarships\nAccess to a robust mentorship program and member directory which offers an incredible network of professionals in the jewelry and watch industries\nEducational webinars and workshops\nMember discounts and more!\n\n\nWe’ll be featuring the Fixers Guild Repair Fair! Why replace it when you can repair it? In these popup Repair Fairs\, the volunteers of the Philly Fixers Guild will help you fix your stuff\, free of charge\, and they’re ready for the challenge. Got tangled jewelry\, IKEA furniture that needs assembling\, or a vacuum cleaner that’s on the fritz? Sit down with one of their volunteers and they’ll help you hands-on with fixing it. While they do have some limits\, they encourage a read of their ground rules before bringing in your items. \nThis independent collective of talented volunteers from differing technical backgrounds is committed to the idea of “repair rather than replace.” These volunteer Fixers do not simply fix items for people but rather work with them to teach the troubleshooting and repair process. Ultimately\, our community will benefit from less waste and improved economic conservation. \nSign up for a  November slot here. \nTours of NextFab will be available\, and light drinks and refreshments will be served. \nWhat are Second Thursdays? \nFor 17 years\, the Crane Arts Building has hosted monthly art exhibitions\, performances\, and openings on the Second Thursday of every month. Similar to First Fridays in Old City\, but not wanting to compete\, Second Thursdays were created to highlight the creative community of the North Philadelphia neighborhood – and well it stuck! \nAmerican St. is becoming a booming street for artists\, makers\, and creatives of all types\, and we invite you to come out to be a part of this. Between the Crane Arts Building and the Clay Studio\, the NextFab building at 1800 North American St. houses seven businesses that will also open their doors on the second Thursday of every month. At 1800 N. American St.’s creative work ranges from maker classes\, sourcing salvaged materials\, empowering artists\, building bicycles\, supporting artisan businesses\, a gorgeous floral market\, and a restaurant mixing up amazing cocktails. All are welcome to this open house-style event! \nWhile at the Wheelhouse building be sure to check out our neighbors:\n\nThe Resource Exchange\nSor Ynez\nKeystone Bicycle Co\nBeaty American Salvage (City Ore)\nCenter for Creative Works\nVirida\nFarm N’ Sea Pets
URL:https://nextfab-sandbox.digitaleye.com/event/november-second-thursday-at-nextfab/
LOCATION:North Philly\, 1800 N. American St.\, Philadelphia\, PA\, 19122\, United States
ATTACH;FMTTYPE=image/jpeg:https://nextfab-sandbox.digitaleye.com/wp-content/uploads/2024/11/November-Second-Thursday-scaled.jpg
END:VEVENT
BEGIN:VEVENT
DTSTART;TZID=America/New_York:20241123T110000
DTEND;TZID=America/New_York:20241123T170000
DTSTAMP:20260424T221758
CREATED:20240610T193952Z
LAST-MODIFIED:20241106T144428Z
UID:28353-1732359600-1732381200@nextfab-sandbox.digitaleye.com
SUMMARY:Miracle On American Street Holiday Gift Market
DESCRIPTION:Event Details\nGet Dazzled at the “Miracle on American Street” Holiday Gift Market!\nMark your calendars! The Fourth Annual Miracle on American Street Holiday Gift Market\, bigger and better than ever\, is coming to NextFab on Saturday\, November 23rd from 11:00 am to 5:00 pm. \nIn partnership with Olde Kensington Boutique\,  shop from over 80+ local vendors\, with festive fun for all ages! Find handmade\, unique\, and creative gifts for everyone on your list from a dazzling array of everything from jewelry and clothing to home décor and delicious treats. It’s the perfect opportunity to sip and shop while supporting talented artisans in our own community. \nGet into the holiday spirit with fun activities throughout the day\, including: \n\nMake-and-Take Activities: Create your own ornaments\, personalize jewelry\, and indulge in yummy s’mores (stations will be open throughout the event). Choose from:\n\nJewelry Stamping (free\, all day): Take a swing at jewelry stamping in the NextFab lobby\, and engrave a special message on a pendant. Add to a necklace\, bracelet\, or to your dog’s collar. \nStained Glass Suncatchers (pay-as-you-go or pre-register): Unleash your inner artist with Project Joy Studio! Discover the magic of creating stunning stained glass suncatchers without the fuss. Their Color Cells make it easy – simply peel and stick your way to a beautiful masterpiece to cherish.\nFun with Foil: Bookmarks\, Magnets\, or Jewelry (pay-as-you-go or pre-register): Join us in the Jewelry Studio to learn how to make embossed foil bookmarks\, magnets\, and more. Explore this traditional technique in new ways as you use tools to shape thin metal sheets. You will learn how to create custom designs and finish them as a gift or keepsake.\nLeather Card Case Wallet(pay-as-you-go or pre-register): Join us in the Textiles Studio to learn about leatherwork this holiday season! Create a simple card case wallet using premium leather. You will learn the durable saddle stitch and use leatherworking stamps to create a custom accessory. Make one for yourself or as a special gift!\n\nMake your Own Ornament (pay-as-you-go\, all day): Sponsored by Olde Kensington Boutique\, choose from a variety of designs to create your own ornament to adorn your tree this year. \n\n\nLive Demonstrations: Witness the creativity firsthand as local artisans showcase their skills in the NextFab makerspace. From turning on the lathe to watching the sparks fly in the metal shop\, see firsthand how the gifts you’re purchasing get made.  \nGiveaways: Keep an eye out for festive surprises throughout the market!\nNextFab Tours: Explore the makerspace from noon to 4 pm and see their incredible makers in action.\nFood & Drinks: be sure to check out the food trucks outside or explore various sweet and savory treats from local vendors scattered throughout the market – from baked goods to decant hot beverages\, hot melted cheese\, and everything in between. \n\nExplore the newly branded\, Wheelhouse building\, a collection of dynamically creatively-conscious businesses nestled in the 1800 N. American Street building\, including:  \n\nSor Ynéz: vibrant Mexican restaurant committed to sustainability\, tradition\, and community\, that offers delicious dishes made with fresh\, locally sourced ingredients. Don’t miss their food specials and retail table during the event!\nKeystone Bikes: a full-service worker-owned bicycle shop selling bikes\, gear\, and apparel for commuting and touring\, plus repair services.\nBeaty American (City Ore): Philadelphia’s premier shop for architectural salvage\, reclaimed building materials\, and unique antiques.\nResource Exchange: non-profit creative reuse store\, art gallery\, and workshop\, featuring a variety of used fabric\, lumber\, furnishings\, and more. Be sure to check out their Holiday Gift Thrift & Decoration Station during the event. \nCenter for Creative Works: a dedicated art studio that empowers people with intellectual disabilities to explore their creativity and develop their cultural identity. Be sure to shop their Holiday Open Studio art sale\, while meeting the talented artists of CCW while sipping hot cocoa and shopping for one-of-a-kind original artworks and artisan products.\nVirida: unique boutique offering a curated collection of floral designs by Brkfst In March\, vintage and handcrafted goods\, and space for immersive events.\nFarm N’ Sea Pets: a local pet store specializing in high-quality\, natural food and treats sourced from local farms and waters. \n\nDon’t miss this fantastic opportunity to support local talent\, discover one-of-a-kind gifts\, and create lasting holiday memories! \nCheck out our vendors: \nGroom & Grain / A.E. Handmade\nLucky Lasso\nBrick & Wire\nLy & Lines\nKara Hetz Jewelry\nScrapyard Aesthetics\nGirl Holding a Pen \nJawnaments\nFriday.\nTombino\nm.a.b.e.l\nKevin B. Huang Studio Art\nYemisi Art\nlivetodream\nM Casey Designs\nRay’s Reusables\nPhilly Yo’ Self \nWaters & The Wild\nSecret Gemini Shop\nSixth House Ego\nPanic Eyes Jewelry\nCracked Bell\nThe Metz Art Gallery\nThe Lazy Glazier\nThuggin and Ruggin\nZaba Clay\nMacramaybee\nRonDee Productions\nAjenfashions\nProject Good Apparel \nSidewalk Press\nGuidry Press\nJ.Wray Arts\nLauren Fiasconaro Art\nDelcorno Ceramics \nNOSHADE\nKharysol\n8th House Reign\nwildcraftprintshop\nProject Joy Studio\nNatalie Klett Art \nStitch Sesh\nAlley Cat Clay\nMYNTH by Lynn\nCrystal Cyborg\nVamvaki\nThe Tin Goat \nTuft Broad\nAritimi Design Studio\nAmber Wood Designs\nConfluence Craftworks \nBell Naturals\nAvecAloes\nTrippy Bunni\nEvol Soul Co\nElizabeth Reitz Jewelry Design\nSoporificia\nFire On The Brain Studio\nSunshinemaille\nDumpster Fires For You\nGhost Etching\nPhiladelphia Bee Co.\nNative Sun Co.\nServing Silver\nYuuka Universe\nChar and Whiskers \nDesigns by Rel\nAlien Bratz\nNails by Juliet  \nFood & Drinks: \nLittle Canteen\nPunch Buggy Brewing Company\nJrip Juicery\nRevolution Bees (mead)\nVictor’s Pizza Truck\nDA CHUNK’AY MONK’AY\n1984cakes\nFunky Fresh Kombucha\n8213 Desserts\nLa Raclette
URL:https://nextfab-sandbox.digitaleye.com/event/2024-miracle-on-american-street-holiday-gift-market/
LOCATION:North Philly\, 1800 N. American St.\, Philadelphia\, PA\, 19122\, United States
ATTACH;FMTTYPE=image/jpeg:https://nextfab-sandbox.digitaleye.com/wp-content/uploads/2024/06/MiracleOnAmerican_2024_Square-min.jpg
END:VEVENT
END:VCALENDAR