BEGIN:VCALENDAR
VERSION:2.0
PRODID:-//NextFab - ECPv6.15.11//NONSGML v1.0//EN
CALSCALE:GREGORIAN
METHOD:PUBLISH
X-ORIGINAL-URL:https://nextfab-sandbox.digitaleye.com
X-WR-CALDESC:Events for NextFab
REFRESH-INTERVAL;VALUE=DURATION:PT1H
X-Robots-Tag:noindex
X-PUBLISHED-TTL:PT1H
BEGIN:VTIMEZONE
TZID:America/New_York
BEGIN:DAYLIGHT
TZOFFSETFROM:-0500
TZOFFSETTO:-0400
TZNAME:EDT
DTSTART:20230312T070000
END:DAYLIGHT
BEGIN:STANDARD
TZOFFSETFROM:-0400
TZOFFSETTO:-0500
TZNAME:EST
DTSTART:20231105T060000
END:STANDARD
BEGIN:DAYLIGHT
TZOFFSETFROM:-0500
TZOFFSETTO:-0400
TZNAME:EDT
DTSTART:20240310T070000
END:DAYLIGHT
BEGIN:STANDARD
TZOFFSETFROM:-0400
TZOFFSETTO:-0500
TZNAME:EST
DTSTART:20241103T060000
END:STANDARD
BEGIN:DAYLIGHT
TZOFFSETFROM:-0500
TZOFFSETTO:-0400
TZNAME:EDT
DTSTART:20250309T070000
END:DAYLIGHT
BEGIN:STANDARD
TZOFFSETFROM:-0400
TZOFFSETTO:-0500
TZNAME:EST
DTSTART:20251102T060000
END:STANDARD
END:VTIMEZONE
BEGIN:VEVENT
DTSTART;TZID=America/New_York:20240411T180000
DTEND;TZID=America/New_York:20240411T200000
DTSTAMP:20260425T104000
CREATED:20240327T141004Z
LAST-MODIFIED:20240327T141004Z
UID:27785-1712858400-1712865600@nextfab-sandbox.digitaleye.com
SUMMARY:April Philly Fixers Guild Repair Fair
DESCRIPTION:Why replace it when you can repair it? In these popup Repair Fairs\, the volunteers of the Philly Fixers Guild will help you fix your stuff\, free of charge\, and they’re ready for the challenge. Got tangled jewelry\, IKEA furniture that needs assembling\, or a vacuum cleaner that’s on the fritz? Sit down with one of their volunteers and they’ll help you hands-on with fixing it. While they do have some limits\, they encourage a read of their ground rules before bringing in your items. \nThis independent collective of talented volunteers from differing technical backgrounds is committed to the idea of “repair rather than replace.” These volunteer Fixers do not simply fix items for people but rather work with them to teach the troubleshooting and repair process. Ultimately\, our community will benefit from less waste and improved economic conservation. \nSign up for a slot here. \nTours of NextFab will be available\, and light drinks and refreshments will be served. \n\n\nWhat are Second Thursdays? \nFor 17 years\, the Crane Arts Building has hosted monthly art exhibitions\, performances\, and openings on the Second Thursday of every month. Similar to First Fridays in Old City\, but not wanting to compete\, Second Thursdays were created to highlight the creative community of the North Philadelphia neighborhood – and well it stuck! \nAmerican St. is becoming a booming street for artists\, makers\, and creatives of all types\, and we invite you to come out to be a part of this. Between the Crane Arts Building and the Clay Studio\, the NextFab building at 1800 North houses eight businesses that will also be opening their doors on the second Thursday of every month. At 1800 N. American St. the creative work ranges from restoring historic neon\, sourcing salvaged materials\, empowering artists\, building bicycles\, supporting artisan businesses\, a gorgeous floral market\, and a restaurant mixing up amazing cocktails. All are welcome to this open house-style event! \nWhile at the 1800 N. American St. building be sure to check out our neighbors:\n\nThe Resource Exchange\nSor Ynez\nKeystone Bicycle Co\nBeaty American Salvage\nCenter for Creative Works
URL:https://nextfab-sandbox.digitaleye.com/event/april-philly-fixers-guild-repair-fair/
LOCATION:North Philly\, 1800 N. American St.\, Philadelphia\, PA\, 19122\, United States
ATTACH;FMTTYPE=image/jpeg:https://nextfab-sandbox.digitaleye.com/wp-content/uploads/2024/01/Philly-Fixers-Guild.jpg
END:VEVENT
BEGIN:VEVENT
DTSTART;TZID=America/New_York:20240414T110000
DTEND;TZID=America/New_York:20240414T130000
DTSTAMP:20260425T104000
CREATED:20240408T192433Z
LAST-MODIFIED:20240408T195354Z
UID:27864-1713092400-1713099600@nextfab-sandbox.digitaleye.com
SUMMARY:Design and Make Your Own Textured Jewelry Workshop
DESCRIPTION:Design and Make Your Own Textured Jewelry\n\nSunday\, Apr 14th\, 2024\, 11:00 am – 1:00 pm\nInstructed by: Newell Catania\nClass Length: 2 hours\n\n\n\nWorkshop Price: $99.00 per person OR Mother’s Day Special: Buy One\, Get One 50% off!\n\n\n\n\n\n\n  \nTry your hand at jewelry-making at NextFab’s open-to-the-public workshop. This beginner-friendly session provides a hands-on introduction to the exciting world of jewelry design and creation. \nIn this workshop\, you’ll: \n\nDesign and create your piece: Craft a unique pendant\, pair of earrings\, or keychain to take home and cherish.\nLearn jewelry-making basics: Gain a fundamental understanding of essential jewelry-making tools\, materials\, and processes.\nCombine digital and traditional methods: Learn how to use template patterns made with the laser cutter to emboss sheet metal.\nExplore NextFab’s Jewelry Studio: Get familiar with the studio’s equipment and resources available for your future jewelry-making endeavors.\n\nThis workshop is ideal for: \n\nBeginners interested in exploring jewelry-making\nAnyone seeking a fun and creative activity\nIndividuals who want to learn new skills and techniques\n\nAll materials are included in the cost of the workshop. \nRegister Here
URL:https://nextfab-sandbox.digitaleye.com/event/design-and-make-your-own-textured-jewelry-workshop/
LOCATION:North Philly\, 1800 N. American St.\, Philadelphia\, PA\, 19122\, United States
ATTACH;FMTTYPE=image/png:https://nextfab-sandbox.digitaleye.com/wp-content/uploads/2024/04/Design-Make-Textured-Jewelry-1-min.png
END:VEVENT
BEGIN:VEVENT
DTSTART;TZID=America/New_York:20240428T170000
DTEND;TZID=America/New_York:20240428T190000
DTSTAMP:20260425T104000
CREATED:20240408T193045Z
LAST-MODIFIED:20240408T195430Z
UID:27871-1714323600-1714330800@nextfab-sandbox.digitaleye.com
SUMMARY:Make Your Own Leather Belt Workshop
DESCRIPTION:Make Your Own Leather Belt Workshop\nSunday\, Apr 28th\, 2024 5:00 pm – 7:00 pm\nInstructed by: Kelly\nClass Length: 2 hours\n\n\n\n\nWorkshop Price: $145.00 per person\n\n\n\n\n  \nTry your hand at leatherworking at NextFab’s open-to-the-public workshop. This beginner-friendly session provides a hands-on introduction. \nIn this workshop\, you’ll: \n\nDesign and create your piece: Craft a one-of-a-kind belt as a gift or keep it for yourself\nLearn leatherworking basics: Gain a fundamental understanding of essential leatherworking tools\, materials\, and processes\nExplore NextFab’s textiles Studio: Get familiar with the studio’s equipment and resources available for your future endeavors\n\nThis workshop is ideal for: \n\nBeginners interested in exploring making\nAnyone seeking a fun and creative activity\nIndividuals who want to learn new skills and techniques\n\nAll materials are included in the cost of the workshop. \nRegister Here
URL:https://nextfab-sandbox.digitaleye.com/event/make-your-own-leather-belt-workshop/
LOCATION:North Philly\, 1800 N. American St.\, Philadelphia\, PA\, 19122\, United States
ATTACH;FMTTYPE=image/png:https://nextfab-sandbox.digitaleye.com/wp-content/uploads/2024/04/Make-your-own-leather-belt-workshop.png
END:VEVENT
END:VCALENDAR