BEGIN:VCALENDAR
VERSION:2.0
PRODID:-//NextFab - ECPv6.15.11//NONSGML v1.0//EN
CALSCALE:GREGORIAN
METHOD:PUBLISH
X-WR-CALNAME:NextFab
X-ORIGINAL-URL:https://nextfab-sandbox.digitaleye.com
X-WR-CALDESC:Events for NextFab
REFRESH-INTERVAL;VALUE=DURATION:PT1H
X-Robots-Tag:noindex
X-PUBLISHED-TTL:PT1H
BEGIN:VTIMEZONE
TZID:America/New_York
BEGIN:DAYLIGHT
TZOFFSETFROM:-0500
TZOFFSETTO:-0400
TZNAME:EDT
DTSTART:20230312T070000
END:DAYLIGHT
BEGIN:STANDARD
TZOFFSETFROM:-0400
TZOFFSETTO:-0500
TZNAME:EST
DTSTART:20231105T060000
END:STANDARD
BEGIN:DAYLIGHT
TZOFFSETFROM:-0500
TZOFFSETTO:-0400
TZNAME:EDT
DTSTART:20240310T070000
END:DAYLIGHT
BEGIN:STANDARD
TZOFFSETFROM:-0400
TZOFFSETTO:-0500
TZNAME:EST
DTSTART:20241103T060000
END:STANDARD
BEGIN:DAYLIGHT
TZOFFSETFROM:-0500
TZOFFSETTO:-0400
TZNAME:EDT
DTSTART:20250309T070000
END:DAYLIGHT
BEGIN:STANDARD
TZOFFSETFROM:-0400
TZOFFSETTO:-0500
TZNAME:EST
DTSTART:20251102T060000
END:STANDARD
END:VTIMEZONE
BEGIN:VEVENT
DTSTART;TZID=America/New_York:20240208T180000
DTEND;TZID=America/New_York:20240208T200000
DTSTAMP:20260425T135140
CREATED:20240118T194832Z
LAST-MODIFIED:20240513T125616Z
UID:27368-1707415200-1707422400@nextfab-sandbox.digitaleye.com
SUMMARY:Addressing the Future: Collage Workshop led by Yannick Lowery
DESCRIPTION:A collage workshop focused on Philadelphia’s shifting landscapes led by Yannick Lowery DVAA x NextFab’s 2024 Resident.\n\nThe second in an already popular series! Yannick will be hosting his next workshop at NextFab on February 8th. \nAs part of his current residency with Davinci Art Alliance and NextFab\, visual artist Yannick Lowery will be leading workshops with a focus on visualizing the future of Philadelphia through paper collage. Participants will be encouraged to think about Philadelphia’s shifting landscapes and how spaces can be utilized for a more balanced and sustainable future. \nAll materials are provided. This is free and open to the public\, but pre-registration is required. \nLight refreshments will be served.
URL:https://nextfab-sandbox.digitaleye.com/event/addressing-the-future-collage-workshop-led-by-yannick-lowery/
LOCATION:North Philly\, 1800 N. American St.\, Philadelphia\, PA\, 19122\, United States
ATTACH;FMTTYPE=image/jpeg:https://nextfab-sandbox.digitaleye.com/wp-content/uploads/2024/01/yannick-lowery-collage-workshop.jpg
END:VEVENT
BEGIN:VEVENT
DTSTART;TZID=America/New_York:20240208T180000
DTEND;TZID=America/New_York:20240208T200000
DTSTAMP:20260425T135140
CREATED:20240125T163505Z
LAST-MODIFIED:20240125T163505Z
UID:27401-1707415200-1707422400@nextfab-sandbox.digitaleye.com
SUMMARY:NextFab x Leeway Resident Colette Fu's "Unprecedented Novelty" Opening Reception
DESCRIPTION:Come join us for the opening reception of Colette Fu’s “Unprecedented Novelty” exhibition on Thursday\, February 8th\, from 6:00 – 8:00 pm at NextFab North Philly.\nColette Fu (LTA ’13\, ATR ’23\, WOO ’18) is the selected 2023 Leeway x NextFab Art and Technology Artist-in-Residence. During her time at NextFab\, Colette experimented with new tools and equipment\, expanding upon her practice of pop-up books by integrating herself within the NextFab woodshop and woodworking community to develop new works exploring the history of Chinese people coming to America. \nCelebrate and view Colette’s work\, Unprecedented Novelty\, on display at NextFab North Philly from February 3\, 2024\, through March 3\, 2024. Viewing hours are Sunday – Thursday\, 10 AM-8 PM. This exhibition is free and open to the public. \n\n\n\n\n\n\nABOUT THE LEEWAY x NEXTFAB ARTIST RESIDENCY\nEstablished in 2018\, The Art and Technology Residency (ATR) is an opportunity for a Leeway grantee to utilize the facilities and equipment at NextFab\, a network of collaborative makerspaces for professional makers. The artist-in-residence receives a $2\,500 stipend from Leeway and access to NextFab’s spaces to create their work. Learn more about NextFab and Leeway.
URL:https://nextfab-sandbox.digitaleye.com/event/nextfab-x-leeway-resident-colette-fus-unprecedented-novelty-opening-reception/
LOCATION:North Philly\, 1800 N. American St.\, Philadelphia\, PA\, 19122\, United States
ATTACH;FMTTYPE=image/jpeg:https://nextfab-sandbox.digitaleye.com/wp-content/uploads/2024/01/Leeway-Resident-Colette-Fu.jpeg
END:VEVENT
BEGIN:VEVENT
DTSTART;TZID=America/New_York:20240208T180000
DTEND;TZID=America/New_York:20240208T200000
DTSTAMP:20260425T135140
CREATED:20240206T140407Z
LAST-MODIFIED:20240206T140407Z
UID:27482-1707415200-1707422400@nextfab-sandbox.digitaleye.com
SUMMARY:February Philly Fixers Guild Repair Fair
DESCRIPTION:Why replace it when you can repair it? In these popup Repair Fairs\, the volunteers of the Philly Fixers Guild will help you fix your stuff\, free of charge\, and they’re ready for the challenge. Got tangled jewelry\, IKEA furniture that needs assembling\, or a vacuum cleaner that’s on the fritz? Sit down with one of their volunteers and they’ll help you hands-on with fixing it. While they do have some limits\, they encourage a read of their ground rules before bringing in your items. \nThis independent collective of talented volunteers from differing technical backgrounds is committed to the idea of “repair rather than replace.” These volunteer Fixers do not simply fix items for people but rather work with them to teach the troubleshooting and repair process. Ultimately\, our community will benefit from less waste and improved economic conservation. \nSign up for a slot here. \n\n\nPhilly Fixers Guild is collaborating with Unless Kids on a toy drop-off event for this January 11th Philly Fixer’s event\, from 6:00-8:00 pm at NextFab.\n\nUnless Kids is a fun\, sustainable\, and convenient membership-based toy-buying platform for you to get the toys your kids want and get rid of the toys they don’t\, all in one easy solution\, they will be up and running this year. They are collecting the toys you need to get rid of to make room for new ones. Not only will this help them build out inventory\, but it will also get you one free month of membership on the platform for every toy they receive from you (up to a year of membership). \nPlease come on down to drop off toys and spend some time learning to repair things! Unless Kids ask that when setting aside toys to give them\, you follow the golden rule: give unto others what you would want to give to your child. Basically\, please don’t include any broken\, incomplete\, or for lack of a better word\, “gross\,” toys. They are specifically looking for toys designed for children ages 2-10 years. \n\n\nRolling tours of NextFab will be available\, and light drinks and refreshments will be served. \n\n\nWhat are Second Thursdays? \nFor 17 years\, the Crane Arts Building has hosted monthly art exhibitions\, performances\, and openings on the Second Thursday of every month. Similar to First Fridays in Old City\, but not wanting to compete\, Second Thursdays were created to highlight the creative community of the North Philadelphia neighborhood – and well it stuck! \nAmerican St. is becoming a booming street for artists\, makers\, and creatives of all types\, and we invite you to come out to be a part of this. Between the Crane Arts Building and the Clay Studio\, the NextFab building at 1800 North houses eight businesses that will also be opening their doors on the second Thursday of every month. At 1800 N. American St. the creative work ranges from restoring historic neon\, sourcing salvaged materials\, empowering artists\, building bicycles\, supporting artisan businesses\, a gorgeous floral market\, and a restaurant mixing up amazing cocktails. All are welcome to this open house-style event! \nWhile at the 1800 N. American St. building be sure to check out our neighbors:\n\nThe Resource Exchange\nSor Ynez\nKeystone Bicycle Co\nBeaty American Salvage\nCenter for Creative Works
URL:https://nextfab-sandbox.digitaleye.com/event/february-philly-fixers-guild-repair-fair/
LOCATION:North Philly\, 1800 N. American St.\, Philadelphia\, PA\, 19122\, United States
ATTACH;FMTTYPE=image/jpeg:https://nextfab-sandbox.digitaleye.com/wp-content/uploads/2024/01/Philly-Fixers-Guild.jpg
END:VEVENT
BEGIN:VEVENT
DTSTART;TZID=America/New_York:20240229T173000
DTEND;TZID=America/New_York:20240229T193000
DTSTAMP:20260425T135140
CREATED:20240216T215633Z
LAST-MODIFIED:20240219T135213Z
UID:27573-1709227800-1709235000@nextfab-sandbox.digitaleye.com
SUMMARY:February South Philly Open House + Material Swap
DESCRIPTION:Join us for the February NextFab Open House event\, where we will be hosting a free “Maker Supply Swap.” The supply swap is a fun and interactive event where makers of all kinds come together to exchange supplies\, ideas\, and inspiration. Whether you’re a DIY enthusiast\, artisan\, designer\, or inventor\, this is the perfect opportunity to declutter your workspace and find new treasures. \nThis event is free and open to the public\, but registration is required. \nRolling tours of NextFab will be available\, and light drinks and refreshments will be served. \n\nRegister here 
URL:https://nextfab-sandbox.digitaleye.com/event/february-south-philly-open-house-material-swap/
LOCATION:South Philly\, 2025 Washington Ave\, Philadelphia\, PA\, 19146\, United States
ATTACH;FMTTYPE=image/png:https://nextfab-sandbox.digitaleye.com/wp-content/uploads/2024/02/maker-supply-swap-1-min.png
END:VEVENT
END:VCALENDAR