BEGIN:VCALENDAR
VERSION:2.0
PRODID:-//NextFab - ECPv6.15.11//NONSGML v1.0//EN
CALSCALE:GREGORIAN
METHOD:PUBLISH
X-WR-CALNAME:NextFab
X-ORIGINAL-URL:https://nextfab-sandbox.digitaleye.com
X-WR-CALDESC:Events for NextFab
REFRESH-INTERVAL;VALUE=DURATION:PT1H
X-Robots-Tag:noindex
X-PUBLISHED-TTL:PT1H
BEGIN:VTIMEZONE
TZID:America/New_York
BEGIN:DAYLIGHT
TZOFFSETFROM:-0500
TZOFFSETTO:-0400
TZNAME:EDT
DTSTART:20220313T070000
END:DAYLIGHT
BEGIN:STANDARD
TZOFFSETFROM:-0400
TZOFFSETTO:-0500
TZNAME:EST
DTSTART:20221106T060000
END:STANDARD
BEGIN:DAYLIGHT
TZOFFSETFROM:-0500
TZOFFSETTO:-0400
TZNAME:EDT
DTSTART:20230312T070000
END:DAYLIGHT
BEGIN:STANDARD
TZOFFSETFROM:-0400
TZOFFSETTO:-0500
TZNAME:EST
DTSTART:20231105T060000
END:STANDARD
BEGIN:DAYLIGHT
TZOFFSETFROM:-0500
TZOFFSETTO:-0400
TZNAME:EDT
DTSTART:20240310T070000
END:DAYLIGHT
BEGIN:STANDARD
TZOFFSETFROM:-0400
TZOFFSETTO:-0500
TZNAME:EST
DTSTART:20241103T060000
END:STANDARD
END:VTIMEZONE
BEGIN:VEVENT
DTSTART;TZID=America/New_York:20231103T120000
DTEND;TZID=America/New_York:20231103T150000
DTSTAMP:20260425T185245
CREATED:20230824T125816Z
LAST-MODIFIED:20230824T125816Z
UID:26553-1699012800-1699023600@nextfab-sandbox.digitaleye.com
SUMMARY:Virtual Office Hours: Digital Marketing and Social Media
DESCRIPTION:Samantha Gonzalez is the owner of FORMATION. Media. She has been in the digital marketing space for 9 years now\, specializing in social media marketing and business intelligence analytics. Her passion lies in the arts\, and her businesses are the result of applying her skill set to an industry she loves. \nFORMATION. Media is a digital marketing agency for creatives. They specialize in growing brands online for professionals in creative industries. If you need help getting started selling online or feel like it’s time to scale up\, they can help. Their core services are branding\, websites\, social media content and strategy\, and paid social and SEM. They’re designed to guide you through every phase of the business cycle and keep you moving forward. Learn more about their team of powerful women at FORMATION. Media.com. \n\nSam will be available to NextFab members for free virtual consultations about social media and digital marketing for NextFab members. Schedule an appointment here.
URL:https://nextfab-sandbox.digitaleye.com/event/virtual-office-hours-digital-marketing-and-social-media-14/
LOCATION:Online
ATTACH;FMTTYPE=image/jpeg:https://nextfab-sandbox.digitaleye.com/wp-content/uploads/2021/05/unnamed-29-min-1-scaled.jpg
END:VEVENT
BEGIN:VEVENT
DTSTART;TZID=America/New_York:20231109T170000
DTEND;TZID=America/New_York:20231109T183000
DTSTAMP:20260425T185245
CREATED:20231027T165005Z
LAST-MODIFIED:20231103T124910Z
UID:26847-1699549200-1699554600@nextfab-sandbox.digitaleye.com
SUMMARY:Social Media Workshop: In's and Out's of Instagram
DESCRIPTION:How do you set up a social media post? What elements should you include for a cohesive story? And how do you capture and create viral content to ensure a following and sales? \nUnleash your Instagram potential with this open-to-the-public ‘Ins and Outs of Instagram’ course. Learn to navigate Instagram’s diverse features and master the art of crafting engaging and impactful posts\, setting you on the path to social media success. Sam Sineni of Formation. Media will invite participants to review what makes up a good social media strategy\, primarily focusing on Instagram. She’ll review how to capture content\, what matters in an Instagram post\, and what a good timeline and strategy look like for your product\, business\, or personal profile. \nThis workshop will be a hybrid of instruction and hands-on work. Each participant will be asked to bring in a few photos ready to post as well as some items they’d like to photograph during the session. Sam will lead a group discussion on how to optimize and post and leave ample time at the end of the workshop for participants to practice their new skills with Sam’s assistance. \nBy the end of this session\, participants will have a better understanding of Instagram for their business or brand and how to apply them to grow their following\, and ultimately increase their sales. \nWorkshop Price: $30.00 per person \nSign Up Here
URL:https://nextfab-sandbox.digitaleye.com/event/social-media-workshop/
LOCATION:North Philly\, 1800 N. American St.\, Philadelphia\, PA\, 19122\, United States
ATTACH;FMTTYPE=image/png:https://nextfab-sandbox.digitaleye.com/wp-content/uploads/2023/10/Sam-Sineni-CEO-of-Formation.Media-min.png
END:VEVENT
BEGIN:VEVENT
DTSTART;TZID=America/New_York:20231109T173000
DTEND;TZID=America/New_York:20231109T193000
DTSTAMP:20260425T185245
CREATED:20231103T131511Z
LAST-MODIFIED:20231103T131558Z
UID:26950-1699551000-1699558200@nextfab-sandbox.digitaleye.com
SUMMARY:Climate Justice Workshop
DESCRIPTION:Join us at NextFab North Philly for this open-to-the-public workshop in collaboration with Mural Arts and the Climate Justice Mural project. Felicia Teter\, Denise Bright Dove Ashton-Dunkley\, and Priscilla Bell Lamberty were all important collaborators on different facets of the project from concept discussions to design and fabrication. In this workshop\, participants will have the opportunity to meet two Native members of the muralist team and dive deeper into the Indigenous mural imagery. Then we will explore our own relationship to environmental justice and ways to include Lenape and Indigenous people in our work. Participants will leave with direct connections to local Lenape tribes and Native organizations to deepen their own justice work. \nCome on over to the newly named Wheelhouse building for this free and exciting event.
URL:https://nextfab-sandbox.digitaleye.com/event/climate-justice-workshop/
LOCATION:North Philly\, 1800 N. American St.\, Philadelphia\, PA\, 19122\, United States
ATTACH;FMTTYPE=image/jpeg:https://nextfab-sandbox.digitaleye.com/wp-content/uploads/2023/11/Snapinsta.app_397508477_848342570110282_1737244832331710498_n_1080-min.jpg
END:VEVENT
BEGIN:VEVENT
DTSTART;TZID=America/New_York:20231109T180000
DTEND;TZID=America/New_York:20231109T200000
DTSTAMP:20260425T185245
CREATED:20230104T173020Z
LAST-MODIFIED:20230221T203010Z
UID:24852-1699552800-1699560000@nextfab-sandbox.digitaleye.com
SUMMARY:Second Thursday at NextFab: Repair Fair
DESCRIPTION:We will be welcoming the Philly Fixers Guild’s Repair Fair back to our spaces to help you fix and repair\, fix\, and assemble your tricky items. Why replace it when you can repair it? This urban volunteer repair outfit will help you fix your stuff\, free of charge\, and they’re ready for the challenge. Got tangled jewelry\, IKEA furniture that needs assembling\, or a vacuum cleaner that’s on the fritz? Sit down with one of their volunteers and they’ll help you hands-on with fixing it. While they do have some limits\, they encourage a read of their ground rules before bringing in your items. Reserve a spot here. \nGuidelines: \nTheir talented volunteer fixers love the challenge of repairing everyday things. However\, we have some limits and guidelines so things can run a bit more smoothly: \n\nGuests are required to stay with their item and participate in the repair (dropping an item off for them to work on defeats the purpose of the Repair Fair)\nIf you already know your item needs a particular replacement part\, order it early and bring it with you to the fair\nAs long as you can carry the item in\, we will do our best to get it repaired\nThere will\, of course\, be some things that cannot reasonably be fixed or might need a part ordered. In these cases\, a fixer will recommend the best course of action. Usually\, they will be able to supply you with info on part numbers and repair steps so you can complete the repair at home on your own!\n\nCan’t make it to the Repair Fair? They don’t want you to miss out on repairing your favorite possessions! For that reason\, their “ASK A FIXER” email link can be used with details of your broken item. A Fixer can then offer some advice and guidance on how to make the repairs on your own time. \nDisclaimer: The Philly Fixers Guild exists to help people repair their personal items and educate the community in general troubleshooting\, diagnosis\, and repair. The guild volunteers are not necessarily professionals or licensed in any way. Any repair work undertaken at a fair is done as a “Good Samaritan” effort and is for educational purposes only. No repair made at a Repair Fair carries any warranty\, promise of reliability\, or guarantee of safety. \nRolling tours of NextFab will be available\, and light drinks and refreshments will be served. \nWhat are Second Thursdays? \nFor 17 years\, the Crane Arts Building has hosted monthly art exhibitions\, performances\, and openings on the Second Thursday of every month. Similar to First Fridays in Old City\, but not wanting to compete\, Second Thursdays was created to highlight the creative community of the North Philadelphia neighborhood – and well it stuck! \nAmerican St. is becoming a booming street for artists\, makers\, and creatives of all types\, and we invite you to come out to be a part of this. Between the Crane Arts Building and the Clay Studio\, the NextFab building at 1800 North houses eight businesses that will also be opening their doors on the second Thursday of every month. At 1800 N. American St. the creative work ranges from restoring historic neon\, sourcing salvaged materials\, empowering artists\, building bicycles\, supporting artisan businesses\, a gorgeous floral market\, and a restaurant mixing up amazing cocktails. All are welcome to this open house-style event! \nWhile at the 1800 N. American St. building be sure to check out our neighbors:\n\nThe Resource Exchange\nSor Ynez\nKeystone Bicycle Co\nBeaty American Salvage\nCenter for Creative Works
URL:https://nextfab-sandbox.digitaleye.com/event/second-thursday-at-nextfab-repair-fair-2023-11-09/
LOCATION:North Philly\, 1800 N. American St.\, Philadelphia\, PA\, 19122\, United States
CATEGORIES:Community Meetup
ATTACH;FMTTYPE=image/png:https://nextfab-sandbox.digitaleye.com/wp-content/uploads/2022/12/Untitled-design-2022-10-27T160824.018-min.png
END:VEVENT
BEGIN:VEVENT
DTSTART;TZID=America/New_York:20231110T120000
DTEND;TZID=America/New_York:20231110T150000
DTSTAMP:20260425T185245
CREATED:20230824T125838Z
LAST-MODIFIED:20230824T125838Z
UID:26555-1699617600-1699628400@nextfab-sandbox.digitaleye.com
SUMMARY:Virtual Office Hours: Digital Marketing and Social Media
DESCRIPTION:Samantha Gonzalez is the owner of FORMATION. Media. She has been in the digital marketing space for 9 years now\, specializing in social media marketing and business intelligence analytics. Her passion lies in the arts\, and her businesses are the result of applying her skill set to an industry she loves. \nFORMATION. Media is a digital marketing agency for creatives. They specialize in growing brands online for professionals in creative industries. If you need help getting started selling online or feel like it’s time to scale up\, they can help. Their core services are branding\, websites\, social media content and strategy\, and paid social and SEM. They’re designed to guide you through every phase of the business cycle and keep you moving forward. Learn more about their team of powerful women at FORMATION. Media.com. \n\nSam will be available to NextFab members for free virtual consultations about social media and digital marketing for NextFab members. Schedule an appointment here.
URL:https://nextfab-sandbox.digitaleye.com/event/virtual-office-hours-digital-marketing-and-social-media-15/
LOCATION:Online
ATTACH;FMTTYPE=image/jpeg:https://nextfab-sandbox.digitaleye.com/wp-content/uploads/2021/05/unnamed-29-min-1-scaled.jpg
END:VEVENT
BEGIN:VEVENT
DTSTART;TZID=America/New_York:20231117T120000
DTEND;TZID=America/New_York:20231117T150000
DTSTAMP:20260425T185245
CREATED:20230824T125858Z
LAST-MODIFIED:20230824T125858Z
UID:26557-1700222400-1700233200@nextfab-sandbox.digitaleye.com
SUMMARY:Virtual Office Hours: Digital Marketing and Social Media
DESCRIPTION:Samantha Gonzalez is the owner of FORMATION. Media. She has been in the digital marketing space for 9 years now\, specializing in social media marketing and business intelligence analytics. Her passion lies in the arts\, and her businesses are the result of applying her skill set to an industry she loves. \nFORMATION. Media is a digital marketing agency for creatives. They specialize in growing brands online for professionals in creative industries. If you need help getting started selling online or feel like it’s time to scale up\, they can help. Their core services are branding\, websites\, social media content and strategy\, and paid social and SEM. They’re designed to guide you through every phase of the business cycle and keep you moving forward. Learn more about their team of powerful women at FORMATION. Media.com. \n\nSam will be available to NextFab members for free virtual consultations about social media and digital marketing for NextFab members. Schedule an appointment here.
URL:https://nextfab-sandbox.digitaleye.com/event/virtual-office-hours-digital-marketing-and-social-media-16/
LOCATION:Online
ATTACH;FMTTYPE=image/jpeg:https://nextfab-sandbox.digitaleye.com/wp-content/uploads/2021/05/unnamed-29-min-1-scaled.jpg
END:VEVENT
BEGIN:VEVENT
DTSTART;TZID=America/New_York:20231118T110000
DTEND;TZID=America/New_York:20231118T170000
DTSTAMP:20260425T185245
CREATED:20230828T134421Z
LAST-MODIFIED:20231106T180454Z
UID:26591-1700305200-1700326800@nextfab-sandbox.digitaleye.com
SUMMARY:Miracle On American Street Holiday Gift Market
DESCRIPTION:Prepare to dazzle shoppers at our grandest event yet! NextFab and Olde Kensington Boutique have once again partnered to bring you the third annual “Miracle on American Street” Holiday Gift Market!  \n\nOver 100 vendors will be selling unique and creative gifts\, from jewelry and clothing to home décor and food. Sip and shop for the perfect gift for everyone on your list\, while supporting local artists and makers in our neighborhoods. Enjoy demonstrations\, giveaways\, and make-and-take activities for all ages\, including the make-your-own ornament at the ornament-making station\, and personalize your own jewelry at the jewelry stamping station\, and gather around our make-your-own s’mores stations to make a snack while you shop. \n\n\nTours of the NextFab makerspace will be available during the half-hour from 12 noon to 4 pm. Explore each of our departments and watch demonstrations of some of our members on the machines. \nAfter you are finished shopping\, stop by our gift wrap station to get all your newly purchased gifts wrapped in locally designed wrapping paper. Our activity tent will host several fun activities for all ages! \nEach of the businesses in the building will be hosting their own specials\, activities\, and shopping: \nSor Ynez\nEnjoy the Miracle specialty cocktail and small bites from the takeout window at Sor Yenz. Sip and shop or sit down at the restaurant for an early dinner – walk-ins are welcome\, but reservations are encouraged. \nKeystone Bikes\nMending day – Live Sewing with Cat (Sew + Sew) and Ruby (Spokes + Stitches). Got jeans\, denim jackets\, skirts\, shirts\, etc. with holes\, tears\, or rips? Bring them to Keystone Bikes during the event for a Mending Day with live sewing by Cat (Sew + Sew) and Ruby (Spokes + Stitches). Get your shopping done or dine at Sor Ynez and when you’re all finished pick up your repaired pieces! Sign up here\, prices vary. \nBeaty American\nShop Philadelphia’s premiere shop for architectural salvage\, reclaimed building materials\, and antiques. \nResource Exchange\nShop from this nonprofit thrift store\, art gallery\, and workshop space\, with a variety of used fabric\, lumber\, furnishings\, craft items\, office supplies\, holiday decor\, and more. Be sure to check out the reGallery with artwork made from sustainable materials. \nCenter for Creative Works\nShop the Center for Creative Works Philly Holiday Open Studio including shirts\, bags\, drawings\, prints\, paintings\, sculptures\, ceramics\, textiles\, gifts\, and more. \n  \nVendors at the event:\n*Note: Due to the high interest\, applications for vendors are officially closed. \nNextFab Member Highlights \nno. 27 collection: Handmade Jewelry\, Ornaments\, and Hanging Decor\nPhilly Jerk: Vegan Jerky \nRay’s Reusables: Eco-Friendly Household Items\nMy Wooden Screen Door: Doors\, Tables\, Chairs\nJawnaments: Christmas Ornaments\nCherne Altovise: Jewelry\nCastle Brothers Workshop: Small Hardwood Furniture and Decor\nVivian Purcell Ceramics: Handmade Mugs\, Cups\, Vases\, Candleholders\nCartrageous: Printed Canvas Totes\, Tile Trivets\, Novelty Belts\, and Gift Items\nMoodio Studio: Mini Cinder Blocks\, Acrylic Plant Stands\, Acrylic Jewelry Displays\nGirl Holding a Pen: Christmas Ornaments\nSONAO.: Wrapped Gemstone Bead Jewelry\, Crochet\, and Silver Jewelry\nTombino: Housewares\nMika Taga: Wood Sculptural Play Forms\nBarbara Schumer Contemporary Enamel Jewelry: Earrings\, Pendants\, and Rings\nM Casey Designs: Epoxy Art\, Earrings\, Ornaments\, and Charcuterie Boards\nNeedle Wielders: Sewing Supplies\, Patterns\, Quilting Kits\, and Embroidery Files\nScrapyard Aesthetics: Scrap Metal Sculptures\, Clocks and Lamps\nKevin B Huang Studio Art:  Laser-Cut Snowflakes & Other Decorative Objects\nSoula Arts: Home Decor\nPhillyPlastiCo: 100% Recycled Plastic Housewares and other useful items\nClick Accessibility LLC/Lighten Up: Cast decorative plant holders and table lamps \nFood & Drink Vendors:\nMural City Cellars: Local wine made right in East Kensington\nPoppa’s Custard Company: Pre-Packaged Gourmet Chilled Dessert Custard\nPunch Buggy Brewing: Artisan brewery in Philadelphia serving up some of the freshest IPAs\, Lagers\, Sours\, Saisons\, and more \n1984cakes: Holiday-themed macarons and cookies\nBluejay Bakery: Seasonal baked goods\, soft pretzels\, seasonal beverages\nDA’ Chunk’Ay Monk’Ay: Homemade cookies\nAngie’s Vietnamese Cuisine: Vietnamese and fusion street food\n \nVendors: \nAmber Wood Designs: Handmade Jewelry and Metal Art\nGhost Etching: Original Artwork\, Prints\, Pins\, Stickers\, and Cross-Stitch\, inspired by Halloween and pop culture\nDesigns by Rel: Handmade Jewelry\nHedge Studio & FAE: Sustainable woodworking products\nAvecAloes Art by Cassandra Shiflet: Relief prints\, stickers\, patches\nCatalyst Accessories: Handmade resin coasters\, holiday ornaments\, clocks\, bottle openers\, bottle stoppers\nTrippy Bunni: Unisex Upcycled Clothing\nSkirtsSewPretty: Clothing and merch for the sassy woman\nThe666Cat: Original art (painting and ceramics) and merch (apparel\, pins\, stickers\, etc)\nEvol Soul Co: Laser cut and engraved items and embroidered items\nAlien Bratz: Jewelry\nPanic Eyes Jewelry: Jewelry \nJeremy Berkman Graphic Design: Framed prints\, posters\, stickers\, and other printed designs\nKeene Pottery: Pottery\nChar and Whiskers: Custom pet portraits and pet accessories \nKharysol: Candles\, pet bandanas\, glassware\nBrickandbrush_paintings: 9×12 inch paintings & prints of Philadelphia mom-and-pop places\nCraft Foundry: Jewelry\, greeting cards and shibori scarves\nDream Castle Design: Jewelry and home decor\nrandu art: Cute stickers\, magnets\, zines\, plushies\, silly bumper stickers\, and original cartoon clothing\nRonDee Productions: Handmade puppets\nPlanet ert: Elegantly upcycled ornamentation\nUntamed Rose: Crystals\, jewelry\, wands\, crowns\, smudge supplies \nMichiirei: Prints\, fabric and felt Plushies\, stickers\, earrings\, keychains\, crystals\, tote bags\nVital Series: Women’s clothing\, hand-dyed Nike socks\nSunshineMaille: Chainmaille Jewelry and trinkets\nOne & Oney Designs: Hand-sewn animal apparel\nPeridot Pansies Pet Bows: Handmade bow ties for dogs\, cats\, and humans\nLauren Fiasconaro Art: Fine artwork in the form of small (mostly 5″x7″) cyanotype photographs in thrifted frames\nPhiladelphia Bee Co.:Philadelphia Honey\, 100% Beeswax candles (molded votives\, tapers\, etc)\, Phila Bee Co. merchandise (t-shirts\, decal stickers)\nBaker B Leather: Luxury leather goods\nwildcraftprintshop: Block printed patches\, flags\, and t-shirts\nYuuka Universe: Jewelry and home goods\nDirty D’s Soapery: Soaps\, bath bombs\, and other body care products\nThe Tin Goat: Soaps and soy candles\nAllegheny Jackdaw: Soaps and soy candles \n3bhh collective: Vintage flatware into sustainable jewelry and accessories.\nCharmed Kollective: A new patent pending interchangeable hoodie string charm system\nIndigo Child: Organic soap\, body butter\, shower steamers\, gift sets\,etc\nChrissie’s Tea Cup: Organic dry tea blends\, hand blended in small batches\, natural flavor-infused honey sticks (lavender)\, and an assortment of tea steeping accessories.\nThe Beat in Between: Handmade queer radical goodies such as hand-stitched sustainable cork wallets\, mirrors\, apparel\, zines and stickers.\nSnug Baby: hand-blended nail polish & cuticle oil as well as ephemera like stickers and lighters.\nNOSHADE: Crafted acrylic earrings\, illustrated prints/stickers\, laser cut acrylic coasters/trinket trays\nMessin With Resin: Creating resin art
URL:https://nextfab-sandbox.digitaleye.com/event/miracle-on-american-street-holiday-gift-market/
LOCATION:North Philly\, 1800 N. American St.\, Philadelphia\, PA\, 19122\, United States
ATTACH;FMTTYPE=image/jpeg:https://nextfab-sandbox.digitaleye.com/wp-content/uploads/2023/08/MiracleOnAmerican_2023_Postcard-1-min.jpg
END:VEVENT
END:VCALENDAR